BEGIN:VCALENDAR
VERSION:2.0
PRODID:-//RSG Wiringherlant - ECPv6.15.17.1//NONSGML v1.0//EN
CALSCALE:GREGORIAN
METHOD:PUBLISH
X-ORIGINAL-URL:https://wiringherlant.nl
X-WR-CALDESC:Evenementen voor RSG Wiringherlant
REFRESH-INTERVAL;VALUE=DURATION:PT1H
X-Robots-Tag:noindex
X-PUBLISHED-TTL:PT1H
BEGIN:VTIMEZONE
TZID:UTC
BEGIN:STANDARD
TZOFFSETFROM:+0000
TZOFFSETTO:+0000
TZNAME:UTC
DTSTART:20230101T000000
END:STANDARD
END:VTIMEZONE
BEGIN:VEVENT
DTSTART;TZID=UTC:20241104T140000
DTEND;TZID=UTC:20241104T160000
DTSTAMP:20260421T180613
CREATED:20240829T103019Z
LAST-MODIFIED:20240829T103019Z
UID:2115-1730728800-1730736000@wiringherlant.nl
SUMMARY:zaalvoetbaltoernooi groep 8 en brugklas
DESCRIPTION:
URL:https://wiringherlant.nl/event/zaalvoetbaltoernooi-groep-8-en-brugklas/
END:VEVENT
BEGIN:VEVENT
DTSTART;TZID=UTC:20241104T190000
DTEND;TZID=UTC:20241104T200000
DTSTAMP:20260421T180613
CREATED:20240829T103220Z
LAST-MODIFIED:20240829T103349Z
UID:2117-1730746800-1730750400@wiringherlant.nl
SUMMARY:voorlichtingsavond ouders groep 8
DESCRIPTION:
URL:https://wiringherlant.nl/event/voorlichtingsavond-ouders-groep-8/
END:VEVENT
END:VCALENDAR