BEGIN:VCALENDAR
VERSION:2.0
PRODID:-//RSG Wiringherlant - ECPv6.15.17.1//NONSGML v1.0//EN
CALSCALE:GREGORIAN
METHOD:PUBLISH
X-WR-CALNAME:RSG Wiringherlant
X-ORIGINAL-URL:https://wiringherlant.nl
X-WR-CALDESC:Evenementen voor RSG Wiringherlant
REFRESH-INTERVAL;VALUE=DURATION:PT1H
X-Robots-Tag:noindex
X-PUBLISHED-TTL:PT1H
BEGIN:VTIMEZONE
TZID:UTC
BEGIN:STANDARD
TZOFFSETFROM:+0000
TZOFFSETTO:+0000
TZNAME:UTC
DTSTART:20230101T000000
END:STANDARD
END:VTIMEZONE
BEGIN:VEVENT
DTSTART;VALUE=DATE:20241121
DTEND;VALUE=DATE:20241122
DTSTAMP:20260421T180431
CREATED:20240829T105053Z
LAST-MODIFIED:20240902T124554Z
UID:2132-1732147200-1732233599@wiringherlant.nl
SUMMARY:brugklasbezoekdag met 40-min rooster t/m 6e uur
DESCRIPTION:
URL:https://wiringherlant.nl/event/brugklasbezoekdag-met-40-min-rooster-t-m-6e-uur/
END:VEVENT
BEGIN:VEVENT
DTSTART;VALUE=DATE:20241121
DTEND;VALUE=DATE:20241122
DTSTAMP:20260421T180431
CREATED:20240829T105146Z
LAST-MODIFIED:20240829T105351Z
UID:2134-1732147200-1732233599@wiringherlant.nl
SUMMARY:leerlingbezoekdagen vmbo 4 21 november t/m 22 november
DESCRIPTION:
URL:https://wiringherlant.nl/event/leerlingbezoekdagen-vmbo-4/
END:VEVENT
END:VCALENDAR