BEGIN:VCALENDAR
VERSION:2.0
PRODID:-//RSG Wiringherlant - ECPv6.15.17.1//NONSGML v1.0//EN
CALSCALE:GREGORIAN
METHOD:PUBLISH
X-WR-CALNAME:RSG Wiringherlant
X-ORIGINAL-URL:https://wiringherlant.nl
X-WR-CALDESC:Evenementen voor RSG Wiringherlant
REFRESH-INTERVAL;VALUE=DURATION:PT1H
X-Robots-Tag:noindex
X-PUBLISHED-TTL:PT1H
BEGIN:VTIMEZONE
TZID:UTC
BEGIN:STANDARD
TZOFFSETFROM:+0000
TZOFFSETTO:+0000
TZNAME:UTC
DTSTART:20240101T000000
END:STANDARD
END:VTIMEZONE
BEGIN:VEVENT
DTSTART;VALUE=DATE:20250203
DTEND;VALUE=DATE:20250204
DTSTAMP:20260421T134345
CREATED:20240830T055901Z
LAST-MODIFIED:20240830T055901Z
UID:2198-1738540800-1738627199@wiringherlant.nl
SUMMARY:inweek uitwisseling A5 Frankrijk 3 februari t/m 7 februari
DESCRIPTION:
URL:https://wiringherlant.nl/event/inweek-uitwisseling-a5-frankrijk-3-februari-t-m-7-februari/
END:VEVENT
BEGIN:VEVENT
DTSTART;VALUE=DATE:20250203
DTEND;VALUE=DATE:20250204
DTSTAMP:20260421T134345
CREATED:20240830T055944Z
LAST-MODIFIED:20240830T055944Z
UID:2200-1738540800-1738627199@wiringherlant.nl
SUMMARY:start 2e semester
DESCRIPTION:
URL:https://wiringherlant.nl/event/start-2e-semester/
END:VEVENT
END:VCALENDAR