BEGIN:VCALENDAR
VERSION:2.0
PRODID:-//RSG Wiringherlant - ECPv6.15.17.1//NONSGML v1.0//EN
CALSCALE:GREGORIAN
METHOD:PUBLISH
X-ORIGINAL-URL:https://wiringherlant.nl
X-WR-CALDESC:Evenementen voor RSG Wiringherlant
REFRESH-INTERVAL;VALUE=DURATION:PT1H
X-Robots-Tag:noindex
X-PUBLISHED-TTL:PT1H
BEGIN:VTIMEZONE
TZID:UTC
BEGIN:STANDARD
TZOFFSETFROM:+0000
TZOFFSETTO:+0000
TZNAME:UTC
DTSTART:20240101T000000
END:STANDARD
END:VTIMEZONE
BEGIN:VEVENT
DTSTART;VALUE=DATE:20250306
DTEND;VALUE=DATE:20250314
DTSTAMP:20260421T122753
CREATED:20250205T094708Z
LAST-MODIFIED:20250212T065809Z
UID:2579-1741219200-1741910399@wiringherlant.nl
SUMMARY:uitweek vmbo 2 uitwisseling Spanje
DESCRIPTION:
URL:https://wiringherlant.nl/event/inweek-vmbo-2-uitwisseling-spanje/
END:VEVENT
BEGIN:VEVENT
DTSTART;VALUE=DATE:20250311
DTEND;VALUE=DATE:20250312
DTSTAMP:20260421T122753
CREATED:20240830T063734Z
LAST-MODIFIED:20240830T063734Z
UID:2225-1741651200-1741737599@wiringherlant.nl
SUMMARY:schoolfotograaf examenklassen
DESCRIPTION:
URL:https://wiringherlant.nl/event/schoolfotograaf-examenklassen/
END:VEVENT
BEGIN:VEVENT
DTSTART;TZID=UTC:20250311T150000
DTEND;TZID=UTC:20250311T203000
DTSTAMP:20260421T122753
CREATED:20240830T063704Z
LAST-MODIFIED:20240830T063704Z
UID:2223-1741705200-1741725000@wiringherlant.nl
SUMMARY:ouderavond 10-minutengesprekken
DESCRIPTION:
URL:https://wiringherlant.nl/event/ouderavond-10-minutengesprekken-2/
END:VEVENT
END:VCALENDAR