BEGIN:VCALENDAR
VERSION:2.0
PRODID:-//RSG Wiringherlant - ECPv6.15.17.1//NONSGML v1.0//EN
CALSCALE:GREGORIAN
METHOD:PUBLISH
X-ORIGINAL-URL:https://wiringherlant.nl
X-WR-CALDESC:Evenementen voor RSG Wiringherlant
REFRESH-INTERVAL;VALUE=DURATION:PT1H
X-Robots-Tag:noindex
X-PUBLISHED-TTL:PT1H
BEGIN:VTIMEZONE
TZID:UTC
BEGIN:STANDARD
TZOFFSETFROM:+0000
TZOFFSETTO:+0000
TZNAME:UTC
DTSTART:20240101T000000
END:STANDARD
END:VTIMEZONE
BEGIN:VEVENT
DTSTART;VALUE=DATE:20250326
DTEND;VALUE=DATE:20250327
DTSTAMP:20260421T122753
CREATED:20240830T065111Z
LAST-MODIFIED:20240830T065137Z
UID:2241-1742947200-1743033599@wiringherlant.nl
SUMMARY:toetsweek 3 26 maart t/m 2 april
DESCRIPTION:
URL:https://wiringherlant.nl/event/toetsweek-3-26-maart-t-m-2-april/
END:VEVENT
BEGIN:VEVENT
DTSTART;TZID=UTC:20250326T170000
DTEND;TZID=UTC:20250326T200000
DTSTAMP:20260421T122753
CREATED:20240830T064228Z
LAST-MODIFIED:20250324T100010Z
UID:2239-1743008400-1743019200@wiringherlant.nl
SUMMARY:inschrijfdag 2 nieuwe leerlingen
DESCRIPTION:
URL:https://wiringherlant.nl/event/inschrijfdag-2-nieuwe-leerlingen/
END:VEVENT
END:VCALENDAR