BEGIN:VCALENDAR
VERSION:2.0
PRODID:-//RSG Wiringherlant - ECPv6.15.17.1//NONSGML v1.0//EN
CALSCALE:GREGORIAN
METHOD:PUBLISH
X-WR-CALNAME:RSG Wiringherlant
X-ORIGINAL-URL:https://wiringherlant.nl
X-WR-CALDESC:Evenementen voor RSG Wiringherlant
REFRESH-INTERVAL;VALUE=DURATION:PT1H
X-Robots-Tag:noindex
X-PUBLISHED-TTL:PT1H
BEGIN:VTIMEZONE
TZID:UTC
BEGIN:STANDARD
TZOFFSETFROM:+0000
TZOFFSETTO:+0000
TZNAME:UTC
DTSTART:20240101T000000
END:STANDARD
END:VTIMEZONE
BEGIN:VEVENT
DTSTART;VALUE=DATE:20250401
DTEND;VALUE=DATE:20250408
DTSTAMP:20260421T111035
CREATED:20250205T094819Z
LAST-MODIFIED:20250212T065717Z
UID:2581-1743465600-1744070399@wiringherlant.nl
SUMMARY:inweek vmbo 2 uitwisseling Spanje
DESCRIPTION:
URL:https://wiringherlant.nl/event/uitweek-vmbo-2-uitwisseling-spanje/
END:VEVENT
BEGIN:VEVENT
DTSTART;VALUE=DATE:20250401
DTEND;VALUE=DATE:20250416
DTSTAMP:20260421T111035
CREATED:20241001T070917Z
LAST-MODIFIED:20241001T070917Z
UID:2413-1743465600-1744761599@wiringherlant.nl
SUMMARY:start CSPE
DESCRIPTION:
URL:https://wiringherlant.nl/event/start-cspe/
END:VEVENT
BEGIN:VEVENT
DTSTART;VALUE=DATE:20250403
DTEND;VALUE=DATE:20250404
DTSTAMP:20260421T111035
CREATED:20240830T065344Z
LAST-MODIFIED:20250212T065431Z
UID:2245-1743638400-1743724799@wiringherlant.nl
SUMMARY:college caroussel RUG atheneum 4
DESCRIPTION:
URL:https://wiringherlant.nl/event/college-caroussel-rug-atheneum-5/
END:VEVENT
END:VCALENDAR