BEGIN:VCALENDAR
VERSION:2.0
PRODID:-//RSG Wiringherlant - ECPv6.15.17.1//NONSGML v1.0//EN
CALSCALE:GREGORIAN
METHOD:PUBLISH
X-ORIGINAL-URL:https://wiringherlant.nl
X-WR-CALDESC:Evenementen voor RSG Wiringherlant
REFRESH-INTERVAL;VALUE=DURATION:PT1H
X-Robots-Tag:noindex
X-PUBLISHED-TTL:PT1H
BEGIN:VTIMEZONE
TZID:UTC
BEGIN:STANDARD
TZOFFSETFROM:+0000
TZOFFSETTO:+0000
TZNAME:UTC
DTSTART:20240101T000000
END:STANDARD
END:VTIMEZONE
BEGIN:VEVENT
DTSTART;VALUE=DATE:20250603
DTEND;VALUE=DATE:20250605
DTSTAMP:20260421T084337
CREATED:20241023T071649Z
LAST-MODIFIED:20241023T071649Z
UID:2455-1748908800-1749081599@wiringherlant.nl
SUMMARY:Ieperreis TTO leerjaar 2
DESCRIPTION:
URL:https://wiringherlant.nl/event/ieperreis-tto-leerjaar-2/
END:VEVENT
BEGIN:VEVENT
DTSTART;VALUE=DATE:20250603
DTEND;VALUE=DATE:20250608
DTSTAMP:20260421T084337
CREATED:20250205T094858Z
LAST-MODIFIED:20250205T094858Z
UID:2583-1748908800-1749340799@wiringherlant.nl
SUMMARY:inweek havo 3 uitwisseling Spanje
DESCRIPTION:
URL:https://wiringherlant.nl/event/inweek-havo-3-uitwisseling-spanje/
END:VEVENT
BEGIN:VEVENT
DTSTART;VALUE=DATE:20250604
DTEND;VALUE=DATE:20250605
DTSTAMP:20260421T084337
CREATED:20240830T072552Z
LAST-MODIFIED:20240830T072552Z
UID:2277-1748995200-1749081599@wiringherlant.nl
SUMMARY:bekendmaking normering cspe vmbo
DESCRIPTION:
URL:https://wiringherlant.nl/event/bekendmaking-normering-cspe-vmbo/
END:VEVENT
END:VCALENDAR