BEGIN:VCALENDAR
VERSION:2.0
PRODID:-//RSG Wiringherlant - ECPv6.15.17.1//NONSGML v1.0//EN
CALSCALE:GREGORIAN
METHOD:PUBLISH
X-WR-CALNAME:RSG Wiringherlant
X-ORIGINAL-URL:https://wiringherlant.nl
X-WR-CALDESC:Evenementen voor RSG Wiringherlant
REFRESH-INTERVAL;VALUE=DURATION:PT1H
X-Robots-Tag:noindex
X-PUBLISHED-TTL:PT1H
BEGIN:VTIMEZONE
TZID:UTC
BEGIN:STANDARD
TZOFFSETFROM:+0000
TZOFFSETTO:+0000
TZNAME:UTC
DTSTART:20240101T000000
END:STANDARD
END:VTIMEZONE
BEGIN:VEVENT
DTSTART;VALUE=DATE:20250930
DTEND;VALUE=DATE:20251001
DTSTAMP:20260421T035658
CREATED:20250922T064753Z
LAST-MODIFIED:20250922T064805Z
UID:3050-1759190400-1759276799@wiringherlant.nl
SUMMARY:stralingspracticum havo 5 en ath 6
DESCRIPTION:
URL:https://wiringherlant.nl/event/stralingspracticum-havo-5-en-ath-6/
END:VEVENT
BEGIN:VEVENT
DTSTART;TZID=UTC:20250923T190000
DTEND;TZID=UTC:20250923T203000
DTSTAMP:20260421T035658
CREATED:20250820T103037Z
LAST-MODIFIED:20250820T103037Z
UID:2836-1758654000-1758659400@wiringherlant.nl
SUMMARY:ouderavond havo en atheneum
DESCRIPTION:
URL:https://wiringherlant.nl/event/ouderavond-havo-en-atheneum/
END:VEVENT
BEGIN:VEVENT
DTSTART;TZID=UTC:20250916T190000
DTEND;TZID=UTC:20250916T203000
DTSTAMP:20260421T035658
CREATED:20250820T102907Z
LAST-MODIFIED:20250820T102907Z
UID:2834-1758049200-1758054600@wiringherlant.nl
SUMMARY:ouderavond vmbo
DESCRIPTION:
URL:https://wiringherlant.nl/event/ouderavond-vmbo/
END:VEVENT
BEGIN:VEVENT
DTSTART;TZID=UTC:20250909T183000
DTEND;TZID=UTC:20250909T200000
DTSTAMP:20260421T035658
CREATED:20250820T102732Z
LAST-MODIFIED:20250820T102732Z
UID:2832-1757442600-1757448000@wiringherlant.nl
SUMMARY:algemene ouderavond brugklas
DESCRIPTION:
URL:https://wiringherlant.nl/event/algemene-ouderavond-brugklas/
END:VEVENT
BEGIN:VEVENT
DTSTART;VALUE=DATE:20250828
DTEND;VALUE=DATE:20250829
DTSTAMP:20260421T035658
CREATED:20250828T083249Z
LAST-MODIFIED:20250922T064941Z
UID:2962-1756339200-1756425599@wiringherlant.nl
SUMMARY:Diataal-toetsen klas 2 en 3
DESCRIPTION:
URL:https://wiringherlant.nl/event/diataal-toetsen-klas-2-en-3/
END:VEVENT
BEGIN:VEVENT
DTSTART;TZID=UTC:20250827T080000
DTEND;TZID=UTC:20250827T170000
DTSTAMP:20260421T035658
CREATED:20250820T102612Z
LAST-MODIFIED:20250820T102612Z
UID:2830-1756281600-1756314000@wiringherlant.nl
SUMMARY:start lessen volgens rooster (behalve voor de brugklassen)
DESCRIPTION:
URL:https://wiringherlant.nl/event/start-lessen-volgens-rooster-behalve-voor-de-brugklassen/
END:VEVENT
BEGIN:VEVENT
DTSTART;VALUE=DATE:20250827
DTEND;VALUE=DATE:20250830
DTSTAMP:20260421T035658
CREATED:20250820T102449Z
LAST-MODIFIED:20250820T102531Z
UID:2826-1756252800-1756511999@wiringherlant.nl
SUMMARY:introductiedagen voor de brugklasleerlingen
DESCRIPTION:
URL:https://wiringherlant.nl/event/introductiedag-brugklas-2/
END:VEVENT
BEGIN:VEVENT
DTSTART;VALUE=DATE:20250826
DTEND;VALUE=DATE:20250827
DTSTAMP:20260421T035658
CREATED:20250820T102338Z
LAST-MODIFIED:20250820T102412Z
UID:2823-1756166400-1756252799@wiringherlant.nl
SUMMARY:introductiedag
DESCRIPTION:
URL:https://wiringherlant.nl/event/introductiedag-brugklas/
END:VEVENT
BEGIN:VEVENT
DTSTART;VALUE=DATE:20250825
DTEND;VALUE=DATE:20250826
DTSTAMP:20260421T035658
CREATED:20250820T102236Z
LAST-MODIFIED:20250820T102236Z
UID:2821-1756080000-1756166399@wiringherlant.nl
SUMMARY:start schooljaar\, leerlingen lesvrij
DESCRIPTION:
URL:https://wiringherlant.nl/event/start-schooljaar-leerlingen-lesvrij/
END:VEVENT
BEGIN:VEVENT
DTSTART;VALUE=DATE:20250714
DTEND;VALUE=DATE:20250715
DTSTAMP:20260421T035658
CREATED:20240830T082205Z
LAST-MODIFIED:20240914T114431Z
UID:2323-1752451200-1752537599@wiringherlant.nl
SUMMARY:zomervakantie 14 juli t/m 22 augustus
DESCRIPTION:
URL:https://wiringherlant.nl/event/zomervakantie-14-juli-t-m-22-augustus/
END:VEVENT
BEGIN:VEVENT
DTSTART;VALUE=DATE:20250709
DTEND;VALUE=DATE:20250710
DTSTAMP:20260421T035658
CREATED:20240830T082128Z
LAST-MODIFIED:20240830T082128Z
UID:2321-1752019200-1752105599@wiringherlant.nl
SUMMARY:tto en cambridge certificaten tto leerjaar 3
DESCRIPTION:
URL:https://wiringherlant.nl/event/tto-en-cambridge-certificaten-tto-leerjaar-3/
END:VEVENT
BEGIN:VEVENT
DTSTART;VALUE=DATE:20250709
DTEND;VALUE=DATE:20250710
DTSTAMP:20260421T035658
CREATED:20240830T082040Z
LAST-MODIFIED:20240830T082040Z
UID:2319-1752019200-1752105599@wiringherlant.nl
SUMMARY:angelia certificaten vmbo
DESCRIPTION:
URL:https://wiringherlant.nl/event/angelia-certificaten-vmbo/
END:VEVENT
BEGIN:VEVENT
DTSTART;VALUE=DATE:20250709
DTEND;VALUE=DATE:20250710
DTSTAMP:20260421T035658
CREATED:20240830T082006Z
LAST-MODIFIED:20240830T082006Z
UID:2317-1752019200-1752105599@wiringherlant.nl
SUMMARY:bijeenkomst MR
DESCRIPTION:
URL:https://wiringherlant.nl/event/bijeenkomst-mr-6/
END:VEVENT
BEGIN:VEVENT
DTSTART;VALUE=DATE:20250709
DTEND;VALUE=DATE:20250710
DTSTAMP:20260421T035658
CREATED:20240830T081936Z
LAST-MODIFIED:20240830T081936Z
UID:2315-1752019200-1752105599@wiringherlant.nl
SUMMARY:rapport uitdelen brugklas en vmbo
DESCRIPTION:
URL:https://wiringherlant.nl/event/rapport-uitdelen-brugklas-en-vmbo-2/
END:VEVENT
BEGIN:VEVENT
DTSTART;VALUE=DATE:20250708
DTEND;VALUE=DATE:20250709
DTSTAMP:20260421T035658
CREATED:20240830T081900Z
LAST-MODIFIED:20240830T081900Z
UID:2313-1751932800-1752019199@wiringherlant.nl
SUMMARY:diploma-uitreiking havo en atheneum
DESCRIPTION:
URL:https://wiringherlant.nl/event/diploma-uitreiking-havo-en-atheneum-2/
END:VEVENT
BEGIN:VEVENT
DTSTART;VALUE=DATE:20250708
DTEND;VALUE=DATE:20250709
DTSTAMP:20260421T035658
CREATED:20240830T081832Z
LAST-MODIFIED:20240830T081832Z
UID:2311-1751932800-1752019199@wiringherlant.nl
SUMMARY:rapport uitdelen havo en atheneum
DESCRIPTION:
URL:https://wiringherlant.nl/event/rapport-uitdelen-havo-en-atheneum-2/
END:VEVENT
BEGIN:VEVENT
DTSTART;VALUE=DATE:20250707
DTEND;VALUE=DATE:20250708
DTSTAMP:20260421T035658
CREATED:20240830T081759Z
LAST-MODIFIED:20240830T081759Z
UID:2309-1751846400-1751932799@wiringherlant.nl
SUMMARY:diploma-uitreiking vmbo
DESCRIPTION:
URL:https://wiringherlant.nl/event/diploma-uitreiking-vmbo-2/
END:VEVENT
BEGIN:VEVENT
DTSTART;VALUE=DATE:20250707
DTEND;VALUE=DATE:20250708
DTSTAMP:20260421T035658
CREATED:20240830T081720Z
LAST-MODIFIED:20240830T081720Z
UID:2307-1751846400-1751932799@wiringherlant.nl
SUMMARY:boeken inleveren
DESCRIPTION:
URL:https://wiringherlant.nl/event/boeken-inleveren/
END:VEVENT
BEGIN:VEVENT
DTSTART;VALUE=DATE:20250701
DTEND;VALUE=DATE:20250702
DTSTAMP:20260421T035658
CREATED:20240830T081646Z
LAST-MODIFIED:20240830T081646Z
UID:2305-1751328000-1751414399@wiringherlant.nl
SUMMARY:uitslag CE-2
DESCRIPTION:
URL:https://wiringherlant.nl/event/uitslag-ce-2/
END:VEVENT
BEGIN:VEVENT
DTSTART;VALUE=DATE:20250630
DTEND;VALUE=DATE:20250701
DTSTAMP:20260421T035658
CREATED:20240830T081458Z
LAST-MODIFIED:20240830T081458Z
UID:2303-1751241600-1751327999@wiringherlant.nl
SUMMARY:WRLT-week 3 30 juni t/m 4 juli
DESCRIPTION:
URL:https://wiringherlant.nl/event/wrlt-week-3-30-juni-t-m-4-juli/
END:VEVENT
BEGIN:VEVENT
DTSTART;VALUE=DATE:20250627
DTEND;VALUE=DATE:20250628
DTSTAMP:20260421T035658
CREATED:20240830T081341Z
LAST-MODIFIED:20240830T081341Z
UID:2300-1750982400-1751068799@wiringherlant.nl
SUMMARY:inhaalmoment toetsweek H4\, A4\, A5 en vmbo 3
DESCRIPTION:
URL:https://wiringherlant.nl/event/inhaalmoment-toetsweek-h4-a4-a5-en-vmbo-3/
END:VEVENT
BEGIN:VEVENT
DTSTART;VALUE=DATE:20250626
DTEND;VALUE=DATE:20250627
DTSTAMP:20260421T035658
CREATED:20250411T070544Z
LAST-MODIFIED:20250411T070544Z
UID:2695-1750896000-1750982399@wiringherlant.nl
SUMMARY:excursie Dinslaken tl3 en havo/ath 4
DESCRIPTION:
URL:https://wiringherlant.nl/event/excursie-dinslaken-tl3-en-havo-ath-4/
END:VEVENT
BEGIN:VEVENT
DTSTART;TZID=UTC:20250625T130000
DTEND;TZID=UTC:20250625T160000
DTSTAMP:20260421T035658
CREATED:20240830T081230Z
LAST-MODIFIED:20240830T081230Z
UID:2298-1750856400-1750867200@wiringherlant.nl
SUMMARY:kennismakingsmiddag groep 8\, 40-minutenrooster t/m 6e uur
DESCRIPTION:
URL:https://wiringherlant.nl/event/kennismakingsmiddag-groep-8-40-minutenrooster-t-m-6e-uur/
END:VEVENT
BEGIN:VEVENT
DTSTART;VALUE=DATE:20250624
DTEND;VALUE=DATE:20250625
DTSTAMP:20260421T035658
CREATED:20240830T081009Z
LAST-MODIFIED:20240830T081009Z
UID:2295-1750723200-1750809599@wiringherlant.nl
SUMMARY:einde CE-2
DESCRIPTION:
URL:https://wiringherlant.nl/event/einde-ce-2/
END:VEVENT
BEGIN:VEVENT
DTSTART;VALUE=DATE:20250623
DTEND;VALUE=DATE:20250624
DTSTAMP:20260421T035658
CREATED:20240830T080922Z
LAST-MODIFIED:20240830T080922Z
UID:2293-1750636800-1750723199@wiringherlant.nl
SUMMARY:uitloopmoment workshoples brugklassen
DESCRIPTION:
URL:https://wiringherlant.nl/event/uitloopmoment-workshoples-brugklassen-2/
END:VEVENT
BEGIN:VEVENT
DTSTART;VALUE=DATE:20250619
DTEND;VALUE=DATE:20250620
DTSTAMP:20260421T035658
CREATED:20240830T080320Z
LAST-MODIFIED:20240830T080353Z
UID:2289-1750291200-1750377599@wiringherlant.nl
SUMMARY:toetsweek h4\, a4\, a5 en vmbo 3 19 juni t/m 26 juni
DESCRIPTION:
URL:https://wiringherlant.nl/event/toetsweek-h4-a4-a5-en-vmbo-3-19-juni-t-m-26-juni/
END:VEVENT
BEGIN:VEVENT
DTSTART;VALUE=DATE:20250617
DTEND;VALUE=DATE:20250618
DTSTAMP:20260421T035658
CREATED:20240830T075601Z
LAST-MODIFIED:20240830T081052Z
UID:2287-1750118400-1750204799@wiringherlant.nl
SUMMARY:start CE-2 17 juni t/m 24 juni
DESCRIPTION:
URL:https://wiringherlant.nl/event/start-ce-2/
END:VEVENT
BEGIN:VEVENT
DTSTART;TZID=UTC:20250616T190000
DTEND;TZID=UTC:20250616T200000
DTSTAMP:20260421T035658
CREATED:20250605T060848Z
LAST-MODIFIED:20250605T061015Z
UID:2771-1750100400-1750104000@wiringherlant.nl
SUMMARY:voorlichtingsavond buitenlandreis vmbo 3
DESCRIPTION:
URL:https://wiringherlant.nl/event/voorlichtingsavond-buitenlandreis-vmbo-3/
END:VEVENT
BEGIN:VEVENT
DTSTART;VALUE=DATE:20250616
DTEND;VALUE=DATE:20250617
DTSTAMP:20260421T035658
CREATED:20240830T075507Z
LAST-MODIFIED:20240830T075507Z
UID:2285-1750032000-1750118399@wiringherlant.nl
SUMMARY:uitloopmoment workshoples brugklassen
DESCRIPTION:
URL:https://wiringherlant.nl/event/uitloopmoment-workshoples-brugklassen/
END:VEVENT
BEGIN:VEVENT
DTSTART;VALUE=DATE:20250614
DTEND;VALUE=DATE:20250621
DTSTAMP:20260421T035658
CREATED:20250205T094929Z
LAST-MODIFIED:20250205T094929Z
UID:2585-1749859200-1750463999@wiringherlant.nl
SUMMARY:uitweek havo 3 uitwisseling Spanje
DESCRIPTION:
URL:https://wiringherlant.nl/event/uitweek-havo-3-uitwisseling-spanje/
END:VEVENT
END:VCALENDAR