BEGIN:VCALENDAR
VERSION:2.0
PRODID:-//RSG Wiringherlant - ECPv6.15.17.1//NONSGML v1.0//EN
CALSCALE:GREGORIAN
METHOD:PUBLISH
X-ORIGINAL-URL:https://wiringherlant.nl
X-WR-CALDESC:Evenementen voor RSG Wiringherlant
REFRESH-INTERVAL;VALUE=DURATION:PT1H
X-Robots-Tag:noindex
X-PUBLISHED-TTL:PT1H
BEGIN:VTIMEZONE
TZID:UTC
BEGIN:STANDARD
TZOFFSETFROM:+0000
TZOFFSETTO:+0000
TZNAME:UTC
DTSTART:20240101T000000
END:STANDARD
END:VTIMEZONE
BEGIN:VEVENT
DTSTART;VALUE=DATE:20251201
DTEND;VALUE=DATE:20251206
DTSTAMP:20260421T053528
CREATED:20250820T104528Z
LAST-MODIFIED:20250820T104528Z
UID:2866-1764547200-1764979199@wiringherlant.nl
SUMMARY:leerlingbesprekingen\, 40-minutenrooster
DESCRIPTION:
URL:https://wiringherlant.nl/event/leerlingbesprekingen-40-minutenrooster/
END:VEVENT
BEGIN:VEVENT
DTSTART;VALUE=DATE:20251208
DTEND;VALUE=DATE:20251209
DTSTAMP:20260421T053528
CREATED:20250820T104603Z
LAST-MODIFIED:20250828T092452Z
UID:2868-1765152000-1765238399@wiringherlant.nl
SUMMARY:uitdelen rapport 1 brugklassen
DESCRIPTION:
URL:https://wiringherlant.nl/event/uitdelen-rapport-1-brugklassen-2/
END:VEVENT
BEGIN:VEVENT
DTSTART;TZID=UTC:20251209T150000
DTEND;TZID=UTC:20251209T203000
DTSTAMP:20260421T053528
CREATED:20250820T104706Z
LAST-MODIFIED:20250820T104706Z
UID:2870-1765292400-1765312200@wiringherlant.nl
SUMMARY:10-minutengesprekken ouderavond
DESCRIPTION:
URL:https://wiringherlant.nl/event/10-minutengesprekken-ouderavond-2/
END:VEVENT
BEGIN:VEVENT
DTSTART;VALUE=DATE:20251212
DTEND;VALUE=DATE:20251213
DTSTAMP:20260421T053528
CREATED:20250820T104733Z
LAST-MODIFIED:20250820T104733Z
UID:2872-1765497600-1765583999@wiringherlant.nl
SUMMARY:paarse vrijdag
DESCRIPTION:
URL:https://wiringherlant.nl/event/paarse-vrijdag-2/
END:VEVENT
BEGIN:VEVENT
DTSTART;TZID=UTC:20251218T200000
DTEND;TZID=UTC:20251218T230000
DTSTAMP:20260421T053528
CREATED:20250820T111056Z
LAST-MODIFIED:20250820T111056Z
UID:2874-1766088000-1766098800@wiringherlant.nl
SUMMARY:schoolfeest lj1 en 2
DESCRIPTION:
URL:https://wiringherlant.nl/event/schoolfeest-lj1-en-2/
END:VEVENT
BEGIN:VEVENT
DTSTART;VALUE=DATE:20251222
DTEND;VALUE=DATE:20260103
DTSTAMP:20260421T053528
CREATED:20250820T111145Z
LAST-MODIFIED:20250820T111145Z
UID:2876-1766361600-1767398399@wiringherlant.nl
SUMMARY:kerstvakantie 22 dec - 2 jan
DESCRIPTION:
URL:https://wiringherlant.nl/event/kerstvakantie-22-dec-2-jan/
END:VEVENT
BEGIN:VEVENT
DTSTART;TZID=UTC:20260113T190000
DTEND;TZID=UTC:20260113T203000
DTSTAMP:20260421T053528
CREATED:20250820T111509Z
LAST-MODIFIED:20250820T111509Z
UID:2878-1768330800-1768336200@wiringherlant.nl
SUMMARY:Voorlichtingsavond ouders lj 2 voor profielkeuze vmbo 3
DESCRIPTION:
URL:https://wiringherlant.nl/event/voorlichtingsavond-ouders-lj-2-voor-profielkeuze-vmbo-3/
END:VEVENT
BEGIN:VEVENT
DTSTART;VALUE=DATE:20260120
DTEND;VALUE=DATE:20260128
DTSTAMP:20260421T053528
CREATED:20250820T111553Z
LAST-MODIFIED:20250820T111553Z
UID:2880-1768867200-1769558399@wiringherlant.nl
SUMMARY:toetsweek 2 alle examenklassen t/m 27 januari
DESCRIPTION:
URL:https://wiringherlant.nl/event/toetsweek-2-alle-examenklassen-t-m-27-januari/
END:VEVENT
BEGIN:VEVENT
DTSTART;VALUE=DATE:20260127
DTEND;VALUE=DATE:20260128
DTSTAMP:20260421T053528
CREATED:20250820T112118Z
LAST-MODIFIED:20250820T112118Z
UID:2882-1769472000-1769558399@wiringherlant.nl
SUMMARY:open dag\, 40-minutenrooster t/m 4e lesuur
DESCRIPTION:
URL:https://wiringherlant.nl/event/open-dag-40-minutenrooster-t-m-4e-lesuur/
END:VEVENT
BEGIN:VEVENT
DTSTART;VALUE=DATE:20260129
DTEND;VALUE=DATE:20260130
DTSTAMP:20260421T053528
CREATED:20250820T112156Z
LAST-MODIFIED:20250828T092527Z
UID:2884-1769644800-1769731199@wiringherlant.nl
SUMMARY:inhaalmoment toetsweek
DESCRIPTION:
URL:https://wiringherlant.nl/event/inhaalmoment-toetsweek-4/
END:VEVENT
BEGIN:VEVENT
DTSTART;TZID=UTC:20260129T160000
DTEND;TZID=UTC:20260129T193000
DTSTAMP:20260421T053528
CREATED:20260129T133337Z
LAST-MODIFIED:20260129T133337Z
UID:3292-1769702400-1769715000@wiringherlant.nl
SUMMARY:MR
DESCRIPTION:
URL:https://wiringherlant.nl/event/mr-7/
END:VEVENT
BEGIN:VEVENT
DTSTART;TZID=UTC:20260203T180000
DTEND;TZID=UTC:20260203T210000
DTSTAMP:20260421T053528
CREATED:20260129T133436Z
LAST-MODIFIED:20260129T133516Z
UID:3294-1770141600-1770152400@wiringherlant.nl
SUMMARY:GMR
DESCRIPTION:
URL:https://wiringherlant.nl/event/gmr-4/
END:VEVENT
BEGIN:VEVENT
DTSTART;VALUE=DATE:20260210
DTEND;VALUE=DATE:20260211
DTSTAMP:20260421T053528
CREATED:20250820T112302Z
LAST-MODIFIED:20250828T092550Z
UID:2886-1770681600-1770767999@wiringherlant.nl
SUMMARY:PWS-markt
DESCRIPTION:
URL:https://wiringherlant.nl/event/pws-markt/
END:VEVENT
BEGIN:VEVENT
DTSTART;TZID=UTC:20260212T080000
DTEND;TZID=UTC:20260212T170000
DTSTAMP:20260421T053528
CREATED:20250820T112329Z
LAST-MODIFIED:20250820T112329Z
UID:2888-1770883200-1770915600@wiringherlant.nl
SUMMARY:herkansing toetsweek
DESCRIPTION:
URL:https://wiringherlant.nl/event/herkansing-toetsweek-3/
END:VEVENT
BEGIN:VEVENT
DTSTART;VALUE=DATE:20260217
DTEND;VALUE=DATE:20260218
DTSTAMP:20260421T053528
CREATED:20250820T112407Z
LAST-MODIFIED:20250820T112407Z
UID:2890-1771286400-1771372799@wiringherlant.nl
SUMMARY:studiedag\, leerlingen lesvrij
DESCRIPTION:
URL:https://wiringherlant.nl/event/studiedag-leerlingen-lesvrij-4/
END:VEVENT
BEGIN:VEVENT
DTSTART;VALUE=DATE:20260218
DTEND;VALUE=DATE:20260219
DTSTAMP:20260421T053528
CREATED:20251016T083102Z
LAST-MODIFIED:20251016T083102Z
UID:3094-1771372800-1771459199@wiringherlant.nl
SUMMARY:Op Kop beroepenevent voor leerjaar 3
DESCRIPTION:
URL:https://wiringherlant.nl/event/op-kop-beroepenevent-voor-leerjaar-3/
END:VEVENT
BEGIN:VEVENT
DTSTART;TZID=UTC:20260218T080000
DTEND;TZID=UTC:20260219T150000
DTSTAMP:20260421T053528
CREATED:20250820T112605Z
LAST-MODIFIED:20250820T112605Z
UID:2892-1771401600-1771513200@wiringherlant.nl
SUMMARY:beroepenevent Den Helder\, leerjaar 3
DESCRIPTION:
URL:https://wiringherlant.nl/event/beroepenevent-den-helder-leerjaar-3/
END:VEVENT
BEGIN:VEVENT
DTSTART;VALUE=DATE:20260223
DTEND;VALUE=DATE:20260228
DTSTAMP:20260421T053528
CREATED:20250820T112649Z
LAST-MODIFIED:20250820T112649Z
UID:2894-1771804800-1772236799@wiringherlant.nl
SUMMARY:voorjaarsvakantie 23 feb - 27 feb
DESCRIPTION:
URL:https://wiringherlant.nl/event/voorjaarsvakantie-23-feb-27-feb/
END:VEVENT
BEGIN:VEVENT
DTSTART;TZID=UTC:20260302T140000
DTEND;TZID=UTC:20260302T163000
DTSTAMP:20260421T053528
CREATED:20251001T074137Z
LAST-MODIFIED:20251001T074137Z
UID:3061-1772460000-1772469000@wiringherlant.nl
SUMMARY:ouder-kindtoernooi voor de brugklassen
DESCRIPTION:
URL:https://wiringherlant.nl/event/ouder-kindtoernooi-voor-de-brugklassen/
END:VEVENT
BEGIN:VEVENT
DTSTART;VALUE=DATE:20260303
DTEND;VALUE=DATE:20260304
DTSTAMP:20260421T053528
CREATED:20250828T080358Z
LAST-MODIFIED:20250828T080358Z
UID:2924-1772496000-1772582399@wiringherlant.nl
SUMMARY:debattoernooi vmbo lj 3
DESCRIPTION:
URL:https://wiringherlant.nl/event/debattoernooi-vmbo-lj-3/
END:VEVENT
BEGIN:VEVENT
DTSTART;VALUE=DATE:20260309
DTEND;VALUE=DATE:20260314
DTSTAMP:20260421T053528
CREATED:20250828T080442Z
LAST-MODIFIED:20250828T080442Z
UID:2926-1773014400-1773446399@wiringherlant.nl
SUMMARY:leerlingbesprekingen met 40-minutenrooster
DESCRIPTION:
URL:https://wiringherlant.nl/event/leerlingbesprekingen-met-40-minutenrooster/
END:VEVENT
BEGIN:VEVENT
DTSTART;VALUE=DATE:20260309
DTEND;VALUE=DATE:20260314
DTSTAMP:20260421T053528
CREATED:20250828T080512Z
LAST-MODIFIED:20250828T080512Z
UID:2928-1773014400-1773446399@wiringherlant.nl
SUMMARY:stage tl 3
DESCRIPTION:
URL:https://wiringherlant.nl/event/stage-tl-3/
END:VEVENT
BEGIN:VEVENT
DTSTART;TZID=UTC:20260317T150000
DTEND;TZID=UTC:20260317T203000
DTSTAMP:20260421T053528
CREATED:20250828T080617Z
LAST-MODIFIED:20250828T080617Z
UID:2930-1773759600-1773779400@wiringherlant.nl
SUMMARY:10-minutengesprekken
DESCRIPTION:
URL:https://wiringherlant.nl/event/10-minutengesprekken/
END:VEVENT
BEGIN:VEVENT
DTSTART;VALUE=DATE:20260323
DTEND;VALUE=DATE:20260331
DTSTAMP:20260421T053528
CREATED:20250828T080730Z
LAST-MODIFIED:20250828T080730Z
UID:2932-1774224000-1774915199@wiringherlant.nl
SUMMARY:toetsweek voor examenklassen (t/m 30 maart)
DESCRIPTION:
URL:https://wiringherlant.nl/event/toetsweek-voor-examenklassen-t-m-30-maart/
END:VEVENT
BEGIN:VEVENT
DTSTART;TZID=UTC:20260327T131500
DTEND;TZID=UTC:20260327T155000
DTSTAMP:20260421T053528
CREATED:20250909T065131Z
LAST-MODIFIED:20250909T065542Z
UID:3028-1774617300-1774626600@wiringherlant.nl
SUMMARY:Oefenexamens Cambridge Checkpoint tto ljr 3 havo en ath
DESCRIPTION:
URL:https://wiringherlant.nl/event/oefenexamens-cambridge-checkpoint-tto-ljr-3-havo-en-ath/
END:VEVENT
BEGIN:VEVENT
DTSTART;VALUE=DATE:20260328
DTEND;VALUE=DATE:20260404
DTSTAMP:20260421T053528
CREATED:20251016T083009Z
LAST-MODIFIED:20251016T083009Z
UID:3092-1774656000-1775260799@wiringherlant.nl
SUMMARY:inweek uitwisseling Frankrijk atheneum 5
DESCRIPTION:
URL:https://wiringherlant.nl/event/inweek-uitwisseling-frankrijk-atheneum-5/
END:VEVENT
BEGIN:VEVENT
DTSTART;VALUE=DATE:20260330
DTEND;VALUE=DATE:20260403
DTSTAMP:20260421T053528
CREATED:20250828T081015Z
LAST-MODIFIED:20250828T081015Z
UID:2938-1774828800-1775174399@wiringherlant.nl
SUMMARY:Diataal-toetsen brugklas
DESCRIPTION:
URL:https://wiringherlant.nl/event/diataal-toetsen-brugklas/
END:VEVENT
BEGIN:VEVENT
DTSTART;TZID=UTC:20260330T131500
DTEND;TZID=UTC:20260330T155000
DTSTAMP:20260421T053528
CREATED:20250909T065251Z
LAST-MODIFIED:20250909T065251Z
UID:3030-1774876500-1774885800@wiringherlant.nl
SUMMARY:oefenexamens Cambridge Checkpoint tto lj3 havo en ath
DESCRIPTION:
URL:https://wiringherlant.nl/event/oefenexamens-cambridge-checkpoint-tto-lj3-havo-en-ath/
END:VEVENT
BEGIN:VEVENT
DTSTART;TZID=UTC:20260330T160000
DTEND;TZID=UTC:20260330T200000
DTSTAMP:20260421T053528
CREATED:20250828T080839Z
LAST-MODIFIED:20260217T094818Z
UID:2934-1774886400-1774900800@wiringherlant.nl
SUMMARY:inschrijfdagen nieuwe leerlingen
DESCRIPTION:
URL:https://wiringherlant.nl/event/inschrijfdagen-nieuwe-leerlingen/
END:VEVENT
BEGIN:VEVENT
DTSTART;TZID=UTC:20260331T160000
DTEND;TZID=UTC:20260331T190000
DTSTAMP:20260421T053528
CREATED:20250828T080917Z
LAST-MODIFIED:20260217T094849Z
UID:2936-1774972800-1774983600@wiringherlant.nl
SUMMARY:inschrijfdagen nieuwe leerlingen
DESCRIPTION:
URL:https://wiringherlant.nl/event/inschrijfdagen-nieuwe-leerlingen-2/
END:VEVENT
END:VCALENDAR