BEGIN:VCALENDAR
VERSION:2.0
PRODID:-//RSG Wiringherlant - ECPv6.15.17.1//NONSGML v1.0//EN
CALSCALE:GREGORIAN
METHOD:PUBLISH
X-ORIGINAL-URL:https://wiringherlant.nl
X-WR-CALDESC:Evenementen voor RSG Wiringherlant
REFRESH-INTERVAL;VALUE=DURATION:PT1H
X-Robots-Tag:noindex
X-PUBLISHED-TTL:PT1H
BEGIN:VTIMEZONE
TZID:UTC
BEGIN:STANDARD
TZOFFSETFROM:+0000
TZOFFSETTO:+0000
TZNAME:UTC
DTSTART:20230101T000000
END:STANDARD
END:VTIMEZONE
BEGIN:VEVENT
DTSTART;VALUE=DATE:20241001
DTEND;VALUE=DATE:20241004
DTSTAMP:20260421T180722
CREATED:20240829T095303Z
LAST-MODIFIED:20240917T053856Z
UID:2073-1727740800-1727999999@wiringherlant.nl
SUMMARY:DIA-toetsen brugklassen 01 t/m 03 oktober
DESCRIPTION:
URL:https://wiringherlant.nl/event/dia-toetsen-brugklassen-24-t-m-26-september/
END:VEVENT
BEGIN:VEVENT
DTSTART;TZID=UTC:20241002T090000
DTEND;TZID=UTC:20241002T120000
DTSTAMP:20260421T180722
CREATED:20240829T095510Z
LAST-MODIFIED:20240829T101020Z
UID:2076-1727859600-1727870400@wiringherlant.nl
SUMMARY:schoolfotograaf herkansing
DESCRIPTION:
URL:https://wiringherlant.nl/event/schoolfotograaf-herkansing/
END:VEVENT
BEGIN:VEVENT
DTSTART;VALUE=DATE:20241005
DTEND;VALUE=DATE:20241006
DTSTAMP:20260421T180722
CREATED:20240829T095548Z
LAST-MODIFIED:20240829T101026Z
UID:2078-1728086400-1728172799@wiringherlant.nl
SUMMARY:dag van de leraar
DESCRIPTION:
URL:https://wiringherlant.nl/event/dag-van-de-leraar/
END:VEVENT
BEGIN:VEVENT
DTSTART;VALUE=DATE:20241008
DTEND;VALUE=DATE:20241009
DTSTAMP:20260421T180722
CREATED:20240829T095710Z
LAST-MODIFIED:20240829T101033Z
UID:2080-1728345600-1728431999@wiringherlant.nl
SUMMARY:studiedag leerlingen lesvrij
DESCRIPTION:
URL:https://wiringherlant.nl/event/studiedag-leerlingen-lesvrij-2/
END:VEVENT
BEGIN:VEVENT
DTSTART;VALUE=DATE:20241009
DTEND;VALUE=DATE:20241010
DTSTAMP:20260421T180722
CREATED:20240829T095932Z
LAST-MODIFIED:20240903T065245Z
UID:2084-1728432000-1728518399@wiringherlant.nl
SUMMARY:dag van de Duitse en Franse taal
DESCRIPTION:
URL:https://wiringherlant.nl/event/dag-van-de-duitse-en-franse-taal/
END:VEVENT
BEGIN:VEVENT
DTSTART;VALUE=DATE:20241013
DTEND;VALUE=DATE:20241014
DTSTAMP:20260421T180722
CREATED:20240829T100339Z
LAST-MODIFIED:20240829T101052Z
UID:2086-1728777600-1728863999@wiringherlant.nl
SUMMARY:uitweek A5 uitwisseling Frankrijk 13 t/m 20 oktober
DESCRIPTION:
URL:https://wiringherlant.nl/event/uitweek-a5-uitwisseling-frankrijk-13-t-m-20-oktober/
END:VEVENT
BEGIN:VEVENT
DTSTART;TZID=UTC:20241014T184500
DTEND;TZID=UTC:20241014T184500
DTSTAMP:20260421T180722
CREATED:20240924T060018Z
LAST-MODIFIED:20240924T060018Z
UID:2379-1728931500-1728931500@wiringherlant.nl
SUMMARY:uitreiking Goethe certificaten op het Huijgenscollege
DESCRIPTION:
URL:https://wiringherlant.nl/event/uitreiking-goethe-certificaten-op-het-huijgenscollege/
END:VEVENT
BEGIN:VEVENT
DTSTART;VALUE=DATE:20241016
DTEND;VALUE=DATE:20241017
DTSTAMP:20260421T180722
CREATED:20240829T100505Z
LAST-MODIFIED:20240829T100505Z
UID:2088-1729036800-1729123199@wiringherlant.nl
SUMMARY:POVO-middag met leerkrachten groep 8
DESCRIPTION:
URL:https://wiringherlant.nl/event/povo-middag-met-leerkrachten-groep-8/
END:VEVENT
BEGIN:VEVENT
DTSTART;VALUE=DATE:20241017
DTEND;VALUE=DATE:20241018
DTSTAMP:20260421T180722
CREATED:20240829T100600Z
LAST-MODIFIED:20240829T101059Z
UID:2090-1729123200-1729209599@wiringherlant.nl
SUMMARY:kwaliteitsbezoek SOVON
DESCRIPTION:
URL:https://wiringherlant.nl/event/kwaliteitsbezoek-sovon/
END:VEVENT
BEGIN:VEVENT
DTSTART;VALUE=DATE:20241021
DTEND;VALUE=DATE:20241022
DTSTAMP:20260421T180722
CREATED:20240829T100737Z
LAST-MODIFIED:20240829T101215Z
UID:2092-1729468800-1729555199@wiringherlant.nl
SUMMARY:WRLT-week 1 21 t/m 25 oktober
DESCRIPTION:
URL:https://wiringherlant.nl/event/wrlt-week-1-21-t-m-25-oktober/
END:VEVENT
BEGIN:VEVENT
DTSTART;VALUE=DATE:20241028
DTEND;VALUE=DATE:20241029
DTSTAMP:20260421T180722
CREATED:20240829T101258Z
LAST-MODIFIED:20240829T101258Z
UID:2113-1730073600-1730159999@wiringherlant.nl
SUMMARY:herfstvakantie 28 oktober t/m 1 november
DESCRIPTION:
URL:https://wiringherlant.nl/event/herfstvakantie-28-oktober-t-m-1-november/
END:VEVENT
END:VCALENDAR