BEGIN:VCALENDAR
VERSION:2.0
PRODID:-//RSG Wiringherlant - ECPv6.15.17.1//NONSGML v1.0//EN
CALSCALE:GREGORIAN
METHOD:PUBLISH
X-WR-CALNAME:RSG Wiringherlant
X-ORIGINAL-URL:https://wiringherlant.nl
X-WR-CALDESC:Evenementen voor RSG Wiringherlant
REFRESH-INTERVAL;VALUE=DURATION:PT1H
X-Robots-Tag:noindex
X-PUBLISHED-TTL:PT1H
BEGIN:VTIMEZONE
TZID:UTC
BEGIN:STANDARD
TZOFFSETFROM:+0000
TZOFFSETTO:+0000
TZNAME:UTC
DTSTART:20240101T000000
END:STANDARD
END:VTIMEZONE
BEGIN:VEVENT
DTSTART;VALUE=DATE:20250203
DTEND;VALUE=DATE:20250204
DTSTAMP:20260421T122606
CREATED:20240830T055901Z
LAST-MODIFIED:20240830T055901Z
UID:2198-1738540800-1738627199@wiringherlant.nl
SUMMARY:inweek uitwisseling A5 Frankrijk 3 februari t/m 7 februari
DESCRIPTION:
URL:https://wiringherlant.nl/event/inweek-uitwisseling-a5-frankrijk-3-februari-t-m-7-februari/
END:VEVENT
BEGIN:VEVENT
DTSTART;VALUE=DATE:20250203
DTEND;VALUE=DATE:20250204
DTSTAMP:20260421T122606
CREATED:20240830T055944Z
LAST-MODIFIED:20240830T055944Z
UID:2200-1738540800-1738627199@wiringherlant.nl
SUMMARY:start 2e semester
DESCRIPTION:
URL:https://wiringherlant.nl/event/start-2e-semester/
END:VEVENT
BEGIN:VEVENT
DTSTART;VALUE=DATE:20250206
DTEND;VALUE=DATE:20250207
DTSTAMP:20260421T122606
CREATED:20240830T061531Z
LAST-MODIFIED:20250110T090600Z
UID:2202-1738800000-1738886399@wiringherlant.nl
SUMMARY:bezoek aan het beroepenevent leerjaar 3
DESCRIPTION:
URL:https://wiringherlant.nl/event/bezoek-aan-het-beroepenevent-havo-en-vmbo-leerjaar-3/
END:VEVENT
BEGIN:VEVENT
DTSTART;TZID=UTC:20250210T150000
DTEND;TZID=UTC:20250210T200000
DTSTAMP:20260421T122606
CREATED:20240830T061749Z
LAST-MODIFIED:20240830T061749Z
UID:2204-1739199600-1739217600@wiringherlant.nl
SUMMARY:presentatie pws (markt) vmbo/havo/atheneum
DESCRIPTION:
URL:https://wiringherlant.nl/event/presentatie-pws-markt-vmbo-havo-atheneum/
END:VEVENT
BEGIN:VEVENT
DTSTART;VALUE=DATE:20250211
DTEND;VALUE=DATE:20250212
DTSTAMP:20260421T122606
CREATED:20240830T061837Z
LAST-MODIFIED:20240830T061837Z
UID:2206-1739232000-1739318399@wiringherlant.nl
SUMMARY:studiedag
DESCRIPTION:
URL:https://wiringherlant.nl/event/studiedag/
END:VEVENT
BEGIN:VEVENT
DTSTART;VALUE=DATE:20250214
DTEND;VALUE=DATE:20250215
DTSTAMP:20260421T122606
CREATED:20240830T061912Z
LAST-MODIFIED:20240830T061912Z
UID:2208-1739491200-1739577599@wiringherlant.nl
SUMMARY:herkansen toetsweek 2 examenklassen
DESCRIPTION:
URL:https://wiringherlant.nl/event/herkansen-toetsweek-2-examenklassen/
END:VEVENT
BEGIN:VEVENT
DTSTART;VALUE=DATE:20250217
DTEND;VALUE=DATE:20250218
DTSTAMP:20260421T122606
CREATED:20240830T062158Z
LAST-MODIFIED:20240830T062158Z
UID:2213-1739750400-1739836799@wiringherlant.nl
SUMMARY:voorjaarsvakantie 17 februari t/m 21 februari
DESCRIPTION:
URL:https://wiringherlant.nl/event/voorjaarsvakantie-17-februari-t-m-21-februari-2/
END:VEVENT
BEGIN:VEVENT
DTSTART;VALUE=DATE:20250228
DTEND;VALUE=DATE:20250301
DTSTAMP:20260421T122606
CREATED:20240830T062005Z
LAST-MODIFIED:20240830T062104Z
UID:2210-1740700800-1740787199@wiringherlant.nl
SUMMARY:rapport 2 uitdelen aan brugklassen met voorlopig advies
DESCRIPTION:
URL:https://wiringherlant.nl/event/voorjaarsvakantie-17-februari-t-m-21-februari/
END:VEVENT
END:VCALENDAR