BEGIN:VCALENDAR
VERSION:2.0
PRODID:-//RSG Wiringherlant - ECPv6.15.17.1//NONSGML v1.0//EN
CALSCALE:GREGORIAN
METHOD:PUBLISH
X-WR-CALNAME:RSG Wiringherlant
X-ORIGINAL-URL:https://wiringherlant.nl
X-WR-CALDESC:Evenementen voor RSG Wiringherlant
REFRESH-INTERVAL;VALUE=DURATION:PT1H
X-Robots-Tag:noindex
X-PUBLISHED-TTL:PT1H
BEGIN:VTIMEZONE
TZID:UTC
BEGIN:STANDARD
TZOFFSETFROM:+0000
TZOFFSETTO:+0000
TZNAME:UTC
DTSTART:20240101T000000
END:STANDARD
END:VTIMEZONE
BEGIN:VEVENT
DTSTART;VALUE=DATE:20250506
DTEND;VALUE=DATE:20250507
DTSTAMP:20260421T084337
CREATED:20240830T070542Z
LAST-MODIFIED:20240830T070542Z
UID:2261-1746489600-1746575999@wiringherlant.nl
SUMMARY:start flexexamens BB/KB en examentraining TL
DESCRIPTION:
URL:https://wiringherlant.nl/event/start-flexexamens-bb-kb-en-examentraining-tl/
END:VEVENT
BEGIN:VEVENT
DTSTART;VALUE=DATE:20250508
DTEND;VALUE=DATE:20250509
DTSTAMP:20260421T084337
CREATED:20240830T070705Z
LAST-MODIFIED:20240830T070705Z
UID:2263-1746662400-1746748799@wiringherlant.nl
SUMMARY:Villangues Namen H4-A4 leerlingen met Frans
DESCRIPTION:
URL:https://wiringherlant.nl/event/villangues-namen-h4-a4-leerlingen-met-frans/
END:VEVENT
BEGIN:VEVENT
DTSTART;VALUE=DATE:20250509
DTEND;VALUE=DATE:20250524
DTSTAMP:20260421T084337
CREATED:20240830T072140Z
LAST-MODIFIED:20240830T072140Z
UID:2267-1746748800-1748044799@wiringherlant.nl
SUMMARY:start centrale examens
DESCRIPTION:
URL:https://wiringherlant.nl/event/start-centrale-examens/
END:VEVENT
BEGIN:VEVENT
DTSTART;VALUE=DATE:20250523
DTEND;VALUE=DATE:20250524
DTSTAMP:20260421T084337
CREATED:20240830T072219Z
LAST-MODIFIED:20240830T072219Z
UID:2269-1747958400-1748044799@wiringherlant.nl
SUMMARY:laatste dag 1e tijdvak centrale examens
DESCRIPTION:
URL:https://wiringherlant.nl/event/laatste-dag-1e-tijdvak-centrale-examens/
END:VEVENT
BEGIN:VEVENT
DTSTART;VALUE=DATE:20250527
DTEND;VALUE=DATE:20250528
DTSTAMP:20260421T084337
CREATED:20240830T072244Z
LAST-MODIFIED:20240830T072244Z
UID:2271-1748304000-1748390399@wiringherlant.nl
SUMMARY:bijeenkomst MR
DESCRIPTION:
URL:https://wiringherlant.nl/event/bijeenkomst-mr-5/
END:VEVENT
BEGIN:VEVENT
DTSTART;VALUE=DATE:20250529
DTEND;VALUE=DATE:20250530
DTSTAMP:20260421T084337
CREATED:20240830T072321Z
LAST-MODIFIED:20240830T072321Z
UID:2273-1748476800-1748563199@wiringherlant.nl
SUMMARY:hemelvaart 29 en 30 mei
DESCRIPTION:
URL:https://wiringherlant.nl/event/hemelvaart-29-en-30-mei/
END:VEVENT
END:VCALENDAR