BEGIN:VCALENDAR
VERSION:2.0
PRODID:-//RSG Wiringherlant - ECPv6.15.17.1//NONSGML v1.0//EN
CALSCALE:GREGORIAN
METHOD:PUBLISH
X-ORIGINAL-URL:https://wiringherlant.nl
X-WR-CALDESC:Evenementen voor RSG Wiringherlant
REFRESH-INTERVAL;VALUE=DURATION:PT1H
X-Robots-Tag:noindex
X-PUBLISHED-TTL:PT1H
BEGIN:VTIMEZONE
TZID:UTC
BEGIN:STANDARD
TZOFFSETFROM:+0000
TZOFFSETTO:+0000
TZNAME:UTC
DTSTART:20250101T000000
END:STANDARD
END:VTIMEZONE
BEGIN:VEVENT
DTSTART;VALUE=DATE:20260422
DTEND;VALUE=DATE:20260506
DTSTAMP:20260420T175250
CREATED:20250828T081511Z
LAST-MODIFIED:20250828T081511Z
UID:2946-1776816000-1778025599@wiringherlant.nl
SUMMARY:meivakantie 22 april - 5 mei
DESCRIPTION:
URL:https://wiringherlant.nl/event/meivakantie-22-april-5-mei/
END:VEVENT
BEGIN:VEVENT
DTSTART;VALUE=DATE:20260506
DTEND;VALUE=DATE:20260507
DTSTAMP:20260420T175250
CREATED:20250828T082129Z
LAST-MODIFIED:20250828T082129Z
UID:2948-1778025600-1778111999@wiringherlant.nl
SUMMARY:start centrale examens (t/m 26 mei)
DESCRIPTION:
URL:https://wiringherlant.nl/event/start-centrale-examens-t-m-26-mei/
END:VEVENT
BEGIN:VEVENT
DTSTART;VALUE=DATE:20260512
DTEND;VALUE=DATE:20260513
DTSTAMP:20260420T175250
CREATED:20250828T082749Z
LAST-MODIFIED:20250828T092631Z
UID:2950-1778544000-1778630399@wiringherlant.nl
SUMMARY:Cambridge checkpoint exam English leerjaar 3 tto (h/a)
DESCRIPTION:
URL:https://wiringherlant.nl/event/cambridge-checkpoint-exam-english-leerjaar-3-tto-h-a/
END:VEVENT
BEGIN:VEVENT
DTSTART;VALUE=DATE:20260514
DTEND;VALUE=DATE:20260516
DTSTAMP:20260420T175250
CREATED:20250828T082835Z
LAST-MODIFIED:20250828T082835Z
UID:2952-1778716800-1778889599@wiringherlant.nl
SUMMARY:Hemelvaart
DESCRIPTION:
URL:https://wiringherlant.nl/event/hemelvaart/
END:VEVENT
BEGIN:VEVENT
DTSTART;VALUE=DATE:20260519
DTEND;VALUE=DATE:20260520
DTSTAMP:20260420T175250
CREATED:20250828T082903Z
LAST-MODIFIED:20250828T092700Z
UID:2954-1779148800-1779235199@wiringherlant.nl
SUMMARY:Cambridge checkpoint exam Mathematics leerjaar 3 tto (h/a)
DESCRIPTION:
URL:https://wiringherlant.nl/event/cambridge-checkpoint-exam-mathematics-leerjaar-3-tto-h-a/
END:VEVENT
BEGIN:VEVENT
DTSTART;TZID=UTC:20260519T164500
DTEND;TZID=UTC:20260519T203000
DTSTAMP:20260420T175250
CREATED:20260129T133756Z
LAST-MODIFIED:20260129T133756Z
UID:3298-1779209100-1779222600@wiringherlant.nl
SUMMARY:GMR
DESCRIPTION:
URL:https://wiringherlant.nl/event/gmr-6/
END:VEVENT
BEGIN:VEVENT
DTSTART;VALUE=DATE:20260525
DTEND;VALUE=DATE:20260526
DTSTAMP:20260420T175250
CREATED:20250828T083103Z
LAST-MODIFIED:20250828T083103Z
UID:2956-1779667200-1779753599@wiringherlant.nl
SUMMARY:Tweede Pinksterdag
DESCRIPTION:
URL:https://wiringherlant.nl/event/tweede-pinksterdag-3/
END:VEVENT
BEGIN:VEVENT
DTSTART;VALUE=DATE:20260526
DTEND;VALUE=DATE:20260527
DTSTAMP:20260420T175250
CREATED:20250828T083139Z
LAST-MODIFIED:20250828T083139Z
UID:2958-1779753600-1779839999@wiringherlant.nl
SUMMARY:einde centrale examens
DESCRIPTION:
URL:https://wiringherlant.nl/event/einde-centrale-examens/
END:VEVENT
BEGIN:VEVENT
DTSTART;TZID=UTC:20260528T160000
DTEND;TZID=UTC:20260528T193000
DTSTAMP:20260420T175250
CREATED:20250828T083211Z
LAST-MODIFIED:20260123T082720Z
UID:2960-1779984000-1779996600@wiringherlant.nl
SUMMARY:MR
DESCRIPTION:
URL:https://wiringherlant.nl/event/mr-5/
END:VEVENT
END:VCALENDAR